BEGIN:VCALENDAR
VERSION:2.0
PRODID:-//Gam Gam Am I Mixed - ECPv6.10.2//NONSGML v1.0//EN
CALSCALE:GREGORIAN
METHOD:PUBLISH
X-ORIGINAL-URL:https://amimixed.com
X-WR-CALDESC:Events for Gam Gam Am I Mixed
REFRESH-INTERVAL;VALUE=DURATION:PT1H
X-Robots-Tag:noindex
X-PUBLISHED-TTL:PT1H
BEGIN:VTIMEZONE
TZID:UTC
BEGIN:STANDARD
TZOFFSETFROM:+0000
TZOFFSETTO:+0000
TZNAME:UTC
DTSTART:20240101T000000
END:STANDARD
END:VTIMEZONE
BEGIN:VEVENT
DTSTART;VALUE=DATE:20240907
DTEND;VALUE=DATE:20240908
DTSTAMP:20260420T191253
CREATED:20240411T201914Z
LAST-MODIFIED:20240418T220837Z
UID:38130-1725667200-1725753599@amimixed.com
SUMMARY:Child Care Planning Council Conference
DESCRIPTION:Don’t miss Mollie Openshaw\, she will be one of the break out speakers at the Local Child Care Planning Council Conference on September 7th!
URL:https://amimixed.com/event/child-care-planning-council-conference/
LOCATION:Early Education Programs & Services\, 1870 Bird Street\, Oroville\, CA\, 95965\, United States
CATEGORIES:Guest Speaker,Live Event
ATTACH;FMTTYPE=image/jpeg:https://amimixed.com/wp-content/uploads/2024/03/Mollie-Guest-Speaker.jpg
ORGANIZER;CN="Mollie Openshaw":MAILTO:mollie@amimixed.com
END:VEVENT
BEGIN:VEVENT
DTSTART;TZID=UTC:20240509T180000
DTEND;TZID=UTC:20240509T210000
DTSTAMP:20260420T191253
CREATED:20240327T075957Z
LAST-MODIFIED:20240424T231607Z
UID:38097-1715277600-1715288400@amimixed.com
SUMMARY:Guest Speaker at VOC's Provider Appreciation Evening
DESCRIPTION:Don’t miss Mollie Openshaw as guest speaker at VOC’s Provider Appreciation Evening on May 9th!
URL:https://amimixed.com/event/guest-speaker-at-vocs-provider-appreciation-evening/
LOCATION:Valley Oak Children\, 3120 Cohasset Rd\, Suite 6\, Chico\, CA\, 95973\, United States
CATEGORIES:Guest Speaker,Live Event
ATTACH;FMTTYPE=image/jpeg:https://amimixed.com/wp-content/uploads/2024/04/mollie.jpg
ORGANIZER;CN="Mollie Openshaw":MAILTO:mollie@amimixed.com
END:VEVENT
BEGIN:VEVENT
DTSTART;VALUE=DATE:20240419
DTEND;VALUE=DATE:20240420
DTSTAMP:20260420T191253
CREATED:20240327T075142Z
LAST-MODIFIED:20240418T220951Z
UID:38092-1713484800-1713571199@amimixed.com
SUMMARY:Guest Speaker at Biggs Elementary School
DESCRIPTION:Mollie Openshaw will be a guest speaker at the Biggs Elementary School on April 19th!
URL:https://amimixed.com/event/guest-speaker-at-biggs-elementary-school/
LOCATION:Biggs Elementary School\, 300 B Street\, Biggs\, CA\, 95917\, United States
CATEGORIES:Guest Speaker,Live Event
ATTACH;FMTTYPE=image/jpeg:https://amimixed.com/wp-content/uploads/2024/03/Mollie-Guest-Speaker.jpg
ORGANIZER;CN="Mollie Openshaw":MAILTO:mollie@amimixed.com
END:VEVENT
BEGIN:VEVENT
DTSTART;TZID=UTC:20240406T100000
DTEND;TZID=UTC:20240406T140000
DTSTAMP:20260420T191253
CREATED:20240327T074338Z
LAST-MODIFIED:20240327T074338Z
UID:38088-1712397600-1712412000@amimixed.com
SUMMARY:Valley Oak Children's Services Annual Children's Faire
DESCRIPTION:Valley Oak Children’s Services Annual Children’s Faire at Chico Downtown Plaza \nThe Children’s Faire is a kick-off celebration for The Week of the Young Child. This special week is sponsored by the National Association for the Education of Young Children (NAEYC)\, with the purpose of focusing public attention on the needs of children and families. The Week of the Young Child is a time to come together as a community\, at all levels\, and strategize how we can better meet the needs of all children! \nThis free family event provides information on local resources for families\, as well as activities\, children’s performances\, and so much more!
URL:https://amimixed.com/event/valley-oak-childrens-services-annual-childrens-faire/
LOCATION:Chico City Plaza\, 132 W 4th Street\, Chico\, CA\, 95928\, United States
CATEGORIES:Live Event
ATTACH;FMTTYPE=image/jpeg:https://amimixed.com/wp-content/uploads/2024/03/433001161_10226960633422537_2499749133152773413_n.jpg
ORGANIZER;CN="Mollie Openshaw":MAILTO:mollie@amimixed.com
END:VEVENT
BEGIN:VEVENT
DTSTART;TZID=UTC:20240330T090000
DTEND;TZID=UTC:20240330T103000
DTSTAMP:20260420T191253
CREATED:20240327T073605Z
LAST-MODIFIED:20240327T073605Z
UID:38084-1711789200-1711794600@amimixed.com
SUMMARY:"Make and Take" Provider Event with Valley Oak Children's Services
DESCRIPTION:“Gam Gam\, Am I Mixed” Make and Take \nMake and Take workshop for individual child puppet stages and paper finger puppets to use with Gam Gam curriculum. Limit of 16 participants.\nTraining will be held at VOCS Office
URL:https://amimixed.com/event/make-and-take-provider-event-with-valley-oak-childrens-services/
LOCATION:Valley Oak Children\, 3120 Cohasset Rd\, Suite 6\, Chico\, CA\, 95973\, United States
CATEGORIES:Live Event
ATTACH;FMTTYPE=image/jpeg:https://amimixed.com/wp-content/uploads/2024/03/430482396_122151596840067405_8370836726063193073_n.jpg
ORGANIZER;CN="Mollie Openshaw":MAILTO:mollie@amimixed.com
END:VEVENT
BEGIN:VEVENT
DTSTART;TZID=UTC:20240324T080000
DTEND;TZID=UTC:20240327T170000
DTSTAMP:20260420T191253
CREATED:20240323T071707Z
LAST-MODIFIED:20240327T072607Z
UID:38080-1711267200-1711558800@amimixed.com
SUMMARY:Exhibitor at Child\, Health\, Education\, and Care Summit
DESCRIPTION:Child\, Health\, Education\, and Care Summit. \nStronger Starts: 25 Years of First 5! \nIn Oakland\, California for three days at the Child Health\, Education and Care Summit (25 years of First 5). \n\nGam Gam will be in the company of some pretty amazing exhibitors and close to 600 attendees. Our prayer is that important connections are made that will help elevate “Gam Gam Am I Mixed?” so the book and our programs can get into little hands that need it.
URL:https://amimixed.com/event/exhibitor-at-child-health-education-and-care-summit/
LOCATION:Oakland Marriott Center\, 1001 Broadway\, Oakland\, CA\, 94607\, United States
CATEGORIES:Live Event
ATTACH;FMTTYPE=image/jpeg:https://amimixed.com/wp-content/uploads/2024/03/Exhibitor-at-Child-Health-Education-and-Care-Summit.jpg
ORGANIZER;CN="Mollie Openshaw":MAILTO:mollie@amimixed.com
END:VEVENT
BEGIN:VEVENT
DTSTART;TZID=UTC:20240318T100000
DTEND;TZID=UTC:20240318T120000
DTSTAMP:20260420T191253
CREATED:20240317T065321Z
LAST-MODIFIED:20240327T070206Z
UID:38059-1710756000-1710763200@amimixed.com
SUMMARY:"KID" Day with Macaroni Kid
DESCRIPTION:1st Annual Spring  “KID” Day with Macaroni Kid! \nChico at Degarmo Park \nDate: 3/18 \nTime: 10-12 \nFace painting\, cookies\, bubbles\, craft activities and more.
URL:https://amimixed.com/event/kid-day-with-macaroni-kid/
LOCATION:Degarmo Park\, 199 Leora Ct.\, Chico\, CA\, 95973\, United States
CATEGORIES:Live Event
ATTACH;FMTTYPE=image/jpeg:https://amimixed.com/wp-content/uploads/2024/03/macaroni-kids.jpg
ORGANIZER;CN="Mollie Openshaw":MAILTO:mollie@amimixed.com
END:VEVENT
BEGIN:VEVENT
DTSTART;TZID=UTC:20240310T100000
DTEND;TZID=UTC:20240310T110000
DTSTAMP:20260420T191253
CREATED:20240309T084539Z
LAST-MODIFIED:20240313T004824Z
UID:38042-1710064800-1710068400@amimixed.com
SUMMARY:Meet Gam Gam at VOCS!
DESCRIPTION:VOCS is hosting two very special Community Resource Rooms this Saturday in Oroville (10am) & Gridley (12pm)! 📚♥ \nMollie Openshaw & Linda Phelps\, the author and illustrator of the book “Gam Gam\, Am I Mixed?” will be there and will be signing copies of their book for each family who attends! \nWe’ll also have extra activities to expand on the story\, like discussion cards\, felt storyboards\, craft supplies\, and more 🎨 \nBe sure to tag someone in the comments to spread the word! \nFollow @amimixed to learn more about their team ♥ \nThese events are no-cost\, and first-come\, first-serve (while supplies last). \nBoth events are rain or shine! \n📍 Oroville: 1200 Myers St\, Oroville \n📍 Gridley: 299 Spruce St\, Gridley
URL:https://amimixed.com/event/meet-gam-gam-at-vocs/
LOCATION:CA
CATEGORIES:Live Event
ATTACH;FMTTYPE=image/jpeg:https://amimixed.com/wp-content/uploads/2024/03/GamGam-VOC.jpg
ORGANIZER;CN="Mollie Openshaw":MAILTO:mollie@amimixed.com
END:VEVENT
BEGIN:VEVENT
DTSTART;VALUE=DATE:20240207
DTEND;VALUE=DATE:20240208
DTSTAMP:20260420T191253
CREATED:20240207T080011Z
LAST-MODIFIED:20240327T065253Z
UID:38054-1707264000-1707350399@amimixed.com
SUMMARY:Guest speaker at CSUC Child Development Class.
DESCRIPTION:Mollie Openshaw is the guest speaker at CSUC talking with future children educators!! Diversity in the classroom.
URL:https://amimixed.com/event/guest-speaker-at-csuc-child-development-class/
LOCATION:CSUC\, Butte Hall\, Room 701\, Chico\, CA\, 95929\, United States
CATEGORIES:Guest Speaker,Live Event
ATTACH;FMTTYPE=image/jpeg:https://amimixed.com/wp-content/uploads/2024/03/Mollie-speaking.jpg
ORGANIZER;CN="Mollie Openshaw":MAILTO:mollie@amimixed.com
END:VEVENT
END:VCALENDAR